BEGIN:VCALENDAR
VERSION:2.0
PRODID:-//Martfű V&aacute;rosi Nőikar - ECPv6.6.4.2//NONSGML v1.0//EN
CALSCALE:GREGORIAN
METHOD:PUBLISH
X-ORIGINAL-URL:https://martfuinoikar.hu
X-WR-CALDESC:Events for Martfű V&aacute;rosi Nőikar
REFRESH-INTERVAL;VALUE=DURATION:PT1H
X-Robots-Tag:noindex
X-PUBLISHED-TTL:PT1H
BEGIN:VTIMEZONE
TZID:Europe/Budapest
BEGIN:DAYLIGHT
TZOFFSETFROM:+0100
TZOFFSETTO:+0200
TZNAME:CEST
DTSTART:20240331T010000
END:DAYLIGHT
BEGIN:STANDARD
TZOFFSETFROM:+0200
TZOFFSETTO:+0100
TZNAME:CET
DTSTART:20241027T010000
END:STANDARD
END:VTIMEZONE
BEGIN:VEVENT
DTSTART;TZID=Europe/Budapest:20240511T170000
DTEND;TZID=Europe/Budapest:20240511T180000
DTSTAMP:20260422T025714
CREATED:20240827T185705Z
LAST-MODIFIED:20240827T185705Z
UID:899-1715446800-1715450400@martfuinoikar.hu
SUMMARY:Tiszaföldvári Galéria megnyitó
DESCRIPTION:Előadott művek: \n1. Kocsár Miklós a Nemzet Művésze címmel kitüntetett\, Kossuth-díjas és kétszeres Erkel Ferenc-díjas magyar zeneszerző\, érdemes művész. Salve Regina. című művének magyar szövege így hangzik: Üdvözlégy\, Úrnőnk\, irgalmasságnak asszonya! Élet\, édesség\, reménycsillag\, áldunk. Most kérve kérlel Évának száműzött népe. Hozzád sóhajtozunk\, sírva és zokogva siralmaink völgye mélyén. Hallgass meg hát\, égi közbenjárónk! Kegyes Anyánk\, két szemed áldott sugarát fordítsd ránk végre! És Jézust mutasd nekünk\, méhed szent gyümölcsét\, hogy őt e számkivetés múltán lássuk! Ó áldott\, ó drága\, ó édes\, szép Szűz Mária! \n2. Karai József\, 20. századi Erkel Ferenc-díjas zeneszerző\, karnagy. „Esti ima” című műve népi dallamot és szöveget dolgoz fel. \n3. Bartók Béla posztumusz Kossuth-díjas magyar zeneszerző\, zongoraművész\, népzenekutató\, a 20. század egyik legjelentősebb zeneszerzője. „Ne hagyj itt” című 2 részes műve 2 illetve 3 női szólamra íródott.
URL:https://martfuinoikar.hu/esemeny/tiszafoldvari-galeria-megnyito/
LOCATION:Tiszaföldvári Galéria
ATTACH;FMTTYPE=image/jpeg:https://martfuinoikar.hu/wp-content/uploads/2024/07/2024.-majus-11.-17-ora-Tiszafoldvari-Galeria-megnyito-18.jpg
END:VEVENT
END:VCALENDAR