BEGIN:VCALENDAR
VERSION:2.0
PRODID:-//Martfű V&aacute;rosi Nőikar - ECPv6.6.4.2//NONSGML v1.0//EN
CALSCALE:GREGORIAN
METHOD:PUBLISH
X-WR-CALNAME:Martfű V&aacute;rosi Nőikar
X-ORIGINAL-URL:https://martfuinoikar.hu
X-WR-CALDESC:Events for Martfű V&aacute;rosi Nőikar
REFRESH-INTERVAL;VALUE=DURATION:PT1H
X-Robots-Tag:noindex
X-PUBLISHED-TTL:PT1H
BEGIN:VTIMEZONE
TZID:Europe/Budapest
BEGIN:DAYLIGHT
TZOFFSETFROM:+0100
TZOFFSETTO:+0200
TZNAME:CEST
DTSTART:20210328T010000
END:DAYLIGHT
BEGIN:STANDARD
TZOFFSETFROM:+0200
TZOFFSETTO:+0100
TZNAME:CET
DTSTART:20211031T010000
END:STANDARD
END:VTIMEZONE
BEGIN:VEVENT
DTSTART;TZID=Europe/Budapest:20211218T170000
DTEND;TZID=Europe/Budapest:20211218T180000
DTSTAMP:20260423T010804
CREATED:20211028T114706Z
LAST-MODIFIED:20211028T114706Z
UID:277-1639846800-1639850400@martfuinoikar.hu
SUMMARY:Mindenki Karácsonya Martfű főterén
DESCRIPTION:
URL:https://martfuinoikar.hu/esemeny/mindenki-karacsonya-martfu-foteren/
LOCATION:Martfű főtér\, Szent István tér\, Martfű\, Jász-Nagykun-Szolnok\, 5435
ATTACH;FMTTYPE=image/jpeg:https://martfuinoikar.hu/wp-content/uploads/2021/10/martfui-foter-tel.jpg
END:VEVENT
BEGIN:VEVENT
DTSTART;TZID=Europe/Budapest:20211212T170000
DTEND;TZID=Europe/Budapest:20211212T180000
DTSTAMP:20260423T010804
CREATED:20211028T114258Z
LAST-MODIFIED:20211207T152812Z
UID:273-1639328400-1639332000@martfuinoikar.hu
SUMMARY:Adventi koncert a martfűi Szent Tamás katolikus templomban
DESCRIPTION:
URL:https://martfuinoikar.hu/esemeny/adventi-koncert-a-martfui-szent-tamas-katolikus-templomban/
LOCATION:Martfűi Szent Tamás katolikus templom\, Szent István tér\, Martfű\, Jász-Nagykun-Szolnok\, 5435
ATTACH;FMTTYPE=image/jpeg:https://martfuinoikar.hu/wp-content/uploads/2021/10/martfui-katolikus-templom.jpg
END:VEVENT
BEGIN:VEVENT
DTSTART;TZID=Europe/Budapest:20211212T100000
DTEND;TZID=Europe/Budapest:20211212T230000
DTSTAMP:20260423T010804
CREATED:20211028T114005Z
LAST-MODIFIED:20211207T152843Z
UID:267-1639303200-1639350000@martfuinoikar.hu
SUMMARY:Adventi koncert a martfűi református templomban
DESCRIPTION:
URL:https://martfuinoikar.hu/esemeny/adventi-koncert-a-martfui-reformatus-templomban/
LOCATION:Martfűi Református templom\, Szent István tér\, Martfű\, Jász-Nagykun-Szolnok\, 5435
ATTACH;FMTTYPE=image/jpeg:https://martfuinoikar.hu/wp-content/uploads/2021/10/martfui-reformatus-templom.jpg
END:VEVENT
BEGIN:VEVENT
DTSTART;TZID=Europe/Budapest:20211110T180000
DTEND;TZID=Europe/Budapest:20211110T190000
DTSTAMP:20260423T010804
CREATED:20211028T071301Z
LAST-MODIFIED:20211104T142736Z
UID:140-1636567200-1636570800@martfuinoikar.hu
SUMMARY:Koncert a Kastélyban
DESCRIPTION:A kastélyról: \nMartfű helytörténetének kiemelkedő épülete a város szélén található kastély. A Keszlerffy család kúriája a 19. század végén épült fel. A historizáló stílusú épületen romantikus villaépítészeti stílusjegyeket is megfigyelhetünk. 1920-as évek elején Szobotka Dezső vásárolta meg a kúriát. Az államosítás után a cipőgyár kezelésébe került a kúria\, majd 1980-as években a növényolajgyárhoz. A vállalat felújíttatta az épületet és vendégházként\, valamint alkotóházként hasznosította. Napjainkban a Martfű Termál SPA részeként Kastélyszálló Panzió néven hasznosul az egykori kúria.  \nAz épület ad helyet annak a koncertnek\, mely a Martfű Városi Nőikar közreműködésével valósul meg. \n 
URL:https://martfuinoikar.hu/esemeny/koncert-a-kastelyban/
LOCATION:Martfű Keszlerffy-Kastély\, Martfűi Keszlerffy-Kastély\, Martfű\, Jász-Nagykun-Szolnok\, 5435\, Magyarország
ATTACH;FMTTYPE=image/jpeg:https://martfuinoikar.hu/wp-content/uploads/2021/10/martfui-kastely.jpg
ORGANIZER;CN="Martf%C5%B1i Hely- %C3%A9s Ipart%C3%B6rt%C3%A9neti Gy%C5%B1jtem%C3%A9ny":MAILTO:martfugyujtemeny@gmail.com
END:VEVENT
END:VCALENDAR