BEGIN:VCALENDAR
VERSION:2.0
PRODID:-//Martfű V&aacute;rosi Nőikar - ECPv6.6.4.2//NONSGML v1.0//EN
CALSCALE:GREGORIAN
METHOD:PUBLISH
X-WR-CALNAME:Martfű V&aacute;rosi Nőikar
X-ORIGINAL-URL:https://martfuinoikar.hu
X-WR-CALDESC:Events for Martfű V&aacute;rosi Nőikar
REFRESH-INTERVAL;VALUE=DURATION:PT1H
X-Robots-Tag:noindex
X-PUBLISHED-TTL:PT1H
BEGIN:VTIMEZONE
TZID:Europe/Budapest
BEGIN:DAYLIGHT
TZOFFSETFROM:+0100
TZOFFSETTO:+0200
TZNAME:CEST
DTSTART:20240331T010000
END:DAYLIGHT
BEGIN:STANDARD
TZOFFSETFROM:+0200
TZOFFSETTO:+0100
TZNAME:CET
DTSTART:20241027T010000
END:STANDARD
END:VTIMEZONE
BEGIN:VEVENT
DTSTART;TZID=Europe/Budapest:20241005T150000
DTEND;TZID=Europe/Budapest:20241005T160000
DTSTAMP:20260421T203031
CREATED:20240827T185901Z
LAST-MODIFIED:20240827T200324Z
UID:905-1728140400-1728144000@martfuinoikar.hu
SUMMARY:Jász-Nagykun-Szolnok Megyei Felnőtt Énekkari Találkozó
DESCRIPTION:A Jász-Nagykun-Szolnok Vármegyei Felnőttkórusok XXXIII. Találkozója idén Fegyverneken kerül megrendezésre.\n\n\n5231 Fegyvernek\, Szent Erzsébet út 184.
URL:https://martfuinoikar.hu/esemeny/jasz-nagykun-szolnok-megyei-felnott-enekkari-talalkozo/
LOCATION:Fegyvernek
ATTACH;FMTTYPE=image/jpeg:https://martfuinoikar.hu/wp-content/uploads/2024/08/fegyvernek.jpg
END:VEVENT
END:VCALENDAR